View In:
ArcGIS JavaScript
ArcGIS Online Map Viewer
ArcGIS Earth
ArcMap
View Footprint In:
ArcGIS Online Map Viewer
Service Description: Oblique_Sample/Needle
Name: Oblique_Sample/Needle
Description:
Single Fused Map Cache: false
Extent:
XMin: 548509.6601171719
YMin: 5274004.726954368
XMax: 549230.4273728571
YMax: 5274617.841903346
Spatial Reference: 32610
(32610)
VCSWkid(5773)
LatestVCSWkid(5773)
Initial Extent:
XMin: 548509.6601171719
YMin: 5274004.726954368
XMax: 549230.4273728571
YMax: 5274617.841903346
Spatial Reference: 32610
(32610)
VCSWkid(5773)
LatestVCSWkid(5773)
Full Extent:
XMin: 548509.6601171719
YMin: 5274004.726954368
XMax: 549230.4273728571
YMax: 5274617.841903346
Spatial Reference: 32610
(32610)
VCSWkid(5773)
LatestVCSWkid(5773)
Pixel Size X: 0.02020880546417248
Pixel Size Y: 0.020208805464178657
Band Count: 3
Pixel Type: U8
RasterFunction Infos: {"rasterFunctionInfos": [{
"name": "None",
"description": "Make a Raster or Raster Dataset into a Function Raster Dataset.",
"help": ""
}]}
Mensuration Capabilities: Basic,Base-Top Height,Base-Top Shadow Height,Top-Top Shadow Height,3D
Has Histograms: true
Has Colormap: false
Has Multi Dimensions : false
Rendering Rule:
Min Scale: 0
Max Scale: 0
Copyright Text:
Service Data Type: esriImageServiceDataTypeRGB
Min Values: 0, 0, 0
Max Values: 255, 255, 255
Mean Values: 106.35401369183995, 111.32352920299867, 103.00103060079178
Standard Deviation Values: 68.12189040346685, 66.62148447506571, 64.8287340219819
Object ID Field: OBJECTID
Fields:
-
OBJECTID
(
type: esriFieldTypeOID, alias: OBJECTID
)
-
Shape
(
type: esriFieldTypeGeometry, alias: Shape
)
-
Name
(
type: esriFieldTypeString, alias: Name, length: 200
)
-
MinPS
(
type: esriFieldTypeDouble, alias: MinPS
)
-
MaxPS
(
type: esriFieldTypeDouble, alias: MaxPS
)
-
LowPS
(
type: esriFieldTypeDouble, alias: LowPS
)
-
HighPS
(
type: esriFieldTypeDouble, alias: HighPS
)
-
Category
(
type: esriFieldTypeInteger, alias: Category
, Coded Values:
[0: Unknown]
, [1: Primary]
, [2: Overview]
, ...6 more...
)
-
Tag
(
type: esriFieldTypeString, alias: Tag, length: 100
)
-
GroupName
(
type: esriFieldTypeString, alias: GroupName, length: 100
)
-
ProductName
(
type: esriFieldTypeString, alias: ProductName, length: 100
)
-
CenterX
(
type: esriFieldTypeDouble, alias: CenterX
)
-
CenterY
(
type: esriFieldTypeDouble, alias: CenterY
)
-
ZOrder
(
type: esriFieldTypeInteger, alias: ZOrder
)
-
Shape_Length
(
type: esriFieldTypeDouble, alias: Shape_Length
)
-
Shape_Area
(
type: esriFieldTypeDouble, alias: Shape_Area
)
-
SensorAzimuth
(
type: esriFieldTypeDouble, alias: Sensor Azimuth
)
-
SensorElevation
(
type: esriFieldTypeDouble, alias: Sensor Elevation
)
-
CameraID
(
type: esriFieldTypeString, alias: CameraID, length: 8000
)
-
PerspectiveX
(
type: esriFieldTypeDouble, alias: PerspectiveX
)
-
PerspectiveY
(
type: esriFieldTypeDouble, alias: PerspectiveY
)
-
PerspectiveZ
(
type: esriFieldTypeDouble, alias: PerspectiveZ
)
Default Mosaic Method: Northwest
Allowed Mosaic Methods: NorthWest,Center,LockRaster,ByAttribute,Nadir,Viewpoint,Seamline,None
SortField:
SortValue: null
Mosaic Operator: First
Default Compression Quality: 75
Default Resampling Method: Bilinear
Max Record Count: 1000
Max Image Height: 4100
Max Image Width: 15000
Max Download Image Count: 20
Max Mosaic Image Count: 20
Allow Raster Function: true
Allow Copy: null
Allow Analysis: null
Allow Compute TiePoints: false
Supports Statistics: true
Supports Advanced Queries: true
Use StandardizedQueries: true
Raster Type Infos:
Name: Raster Dataset
Description: Supports all ArcGIS Raster Datasets
Help:
Has Raster Attribute Table: false
Edit Fields Info: null
Ownership Based AccessControl For Rasters: null
Child Resources:
Info
Histograms
Key Properties
Legend
Raster Function Infos
Supported Operations:
Export Image
Query
Identify
Measure
Compute Histograms
Compute Statistics Histograms
Get Samples
Compute Class Statistics
Query Boundary
Compute Pixel Location
Validate
Project